BEGIN:VCALENDAR
VERSION:2.0
PRODID:-//Rossmoor Art Association - ECPv6.15.17.1//NONSGML v1.0//EN
CALSCALE:GREGORIAN
METHOD:PUBLISH
X-WR-CALNAME:Rossmoor Art Association
X-ORIGINAL-URL:https://rossmoorart.com
X-WR-CALDESC:Events for Rossmoor Art Association
REFRESH-INTERVAL;VALUE=DURATION:PT1H
X-Robots-Tag:noindex
X-PUBLISHED-TTL:PT1H
BEGIN:VTIMEZONE
TZID:America/Los_Angeles
BEGIN:DAYLIGHT
TZOFFSETFROM:-0800
TZOFFSETTO:-0700
TZNAME:PDT
DTSTART:20250309T100000
END:DAYLIGHT
BEGIN:STANDARD
TZOFFSETFROM:-0700
TZOFFSETTO:-0800
TZNAME:PST
DTSTART:20251102T090000
END:STANDARD
BEGIN:DAYLIGHT
TZOFFSETFROM:-0800
TZOFFSETTO:-0700
TZNAME:PDT
DTSTART:20260308T100000
END:DAYLIGHT
BEGIN:STANDARD
TZOFFSETFROM:-0700
TZOFFSETTO:-0800
TZNAME:PST
DTSTART:20261101T090000
END:STANDARD
BEGIN:DAYLIGHT
TZOFFSETFROM:-0800
TZOFFSETTO:-0700
TZNAME:PDT
DTSTART:20270314T100000
END:DAYLIGHT
BEGIN:STANDARD
TZOFFSETFROM:-0700
TZOFFSETTO:-0800
TZNAME:PST
DTSTART:20271107T090000
END:STANDARD
END:VTIMEZONE
BEGIN:VEVENT
DTSTART;TZID=America/Los_Angeles:20260604T000000
DTEND;TZID=America/Los_Angeles:20260604T000000
DTSTAMP:20260419T064038
CREATED:20260330T171527Z
LAST-MODIFIED:20260330T171527Z
UID:72912-1780531200-1780531200@rossmoorart.com
SUMMARY:Beginning/Intermediate Watercolor Painting with Ron Pratt _April 2nd to June 18 _ Thursdays _9am to 11:30am_(no class on 4/30 and 5/7) Studio 1
DESCRIPTION:Beginning/Intermediate Watercolor Painting \nSpring 2026 \nRonald Pratt \n  \nGateway\, Painting Studio 1 \n Spring is a wonderful time of the year where the days are becoming longer\, the rains are a little less frequent and the temperature starts to climb to a comfortable level.  Outside nature starts to splash us with a colorful array of blossoms\, the birds start arriving from their winter habitat and the forests come alive with a bounty of living creatures.  I feel like I am waking up from a long winter nap and can sense the energy and excitement of summertime just around the corner.  This is the time I am my most creative and can’t wait to sit down and paint. \nIf you are like me and feel the excitement of spring and want to paint come join us at the Rossmoor Art Association’s Activity Center on Thursday Mornings for a watercolor painting class designed for you.  The focus of this class is the fundamentals of painting.  You will be given step by step demonstrations of watercolor painting to inspire you while in a friendly atmosphere that will encourage you to explore your own individual creativity.  Subject matter will include spring flowers\, a poppy covered hillside\, a nature scene and a still life. \nThis watercolor painting class will be at the Rossmoor Activities Center\, Painting Studio 1 on Thursday Mornings from 9 am to 11:30 am.  This 10 week class will run from April 2nd to June 18 (no class on 4/30 and 5/7) at a cost of $160.  For Non-Rossmoor Residents the class fee is $180.  Priority will be given to Rossmoor Residents.  Suggested materials will be discussed at the first class. \n  \nTo register go to the Rossmoor Art Association Website ( www.rossmoorart.com )and click on classes on the header bar.  Scroll down until you come to Beginning/Intermediate Watercolor Painting with Ron Pratt and follow the instructions to enroll.  The class maximum is 20 students due to space limitations so get your registration in to reserve your seat in the class. \n  \nTo see Ronald’s Watercolors go to www.ronaldpratt.com.  Please direct questions to Ronald at ronpratt14@gmail.com or call him at (510) 366-7740.  Further information on all RAA activities can be found at www.rossmoorart.com.
URL:https://rossmoorart.com/event/beginning-intermediate-watercolor-painting-with-ron-pratt-_april-2nd-to-june-18-_-thursdays-_9am-to-1130am_no-class-on-4-30-and-5-7-studio-1-10/
LOCATION:Gateway Art Studio 1\, 1001 Golden Rain Road\, Walnut Creek\, CA\, CA\, 94595\, United States
END:VEVENT
BEGIN:VEVENT
DTSTART;TZID=America/Los_Angeles:20260609T090000
DTEND;TZID=America/Los_Angeles:20260609T113000
DTSTAMP:20260419T064038
CREATED:20260409T174004Z
LAST-MODIFIED:20260409T174004Z
UID:72942-1780995600-1781004600@rossmoorart.com
SUMMARY:Watercolor with Kathleen Stumpfel_ April 28 to June 9_ Tuesdays _ 9am to 11:30 am_ Studio 2
DESCRIPTION:Do you want to paint in watercolor? \nThis class will show beginners\, even if you have never painted in watercolor\, the techniques to use with paint and water. The goal is to have fun with the creative process. We will have step-by-step projects with short demonstrations and plenty of time to paint a variety of subject matter including florals\, still lifes\, and landscapes. Most importantly\, this class will give you a start in the creative process needed for your art. This seven-week session will meet on Tuesday mornings in Studio 2 from April 28 until June 9 for $130. For Non-Rossmoor Residents the class fee is $150. Priority will be given to Rossmoor Residents. Suggested materials will be emailed before the start and discussed in the first class. Bring any watercolor materials you have. \nApril 28 – June 9\, 2026\n9 am- 11:30\, Studio 2\nTuesday\nMaximum spaces – 14\nPrice for members – $130\nPrice for non-members – $150
URL:https://rossmoorart.com/event/watercolor-with-kathleen-stumpfel_-april-28-to-june-9_-tuesdays-_-9am-to-1130-am_-studio-2-7/
LOCATION:Gateway Art Studio 1\, 1001 Golden Rain Road\, Walnut Creek\, CA\, CA\, 94595\, United States
END:VEVENT
BEGIN:VEVENT
DTSTART;TZID=America/Los_Angeles:20260611T000000
DTEND;TZID=America/Los_Angeles:20260611T000000
DTSTAMP:20260419T064038
CREATED:20260330T171528Z
LAST-MODIFIED:20260330T171528Z
UID:72913-1781136000-1781136000@rossmoorart.com
SUMMARY:Beginning/Intermediate Watercolor Painting with Ron Pratt _April 2nd to June 18 _ Thursdays _9am to 11:30am_(no class on 4/30 and 5/7) Studio 1
DESCRIPTION:Beginning/Intermediate Watercolor Painting \nSpring 2026 \nRonald Pratt \n  \nGateway\, Painting Studio 1 \n Spring is a wonderful time of the year where the days are becoming longer\, the rains are a little less frequent and the temperature starts to climb to a comfortable level.  Outside nature starts to splash us with a colorful array of blossoms\, the birds start arriving from their winter habitat and the forests come alive with a bounty of living creatures.  I feel like I am waking up from a long winter nap and can sense the energy and excitement of summertime just around the corner.  This is the time I am my most creative and can’t wait to sit down and paint. \nIf you are like me and feel the excitement of spring and want to paint come join us at the Rossmoor Art Association’s Activity Center on Thursday Mornings for a watercolor painting class designed for you.  The focus of this class is the fundamentals of painting.  You will be given step by step demonstrations of watercolor painting to inspire you while in a friendly atmosphere that will encourage you to explore your own individual creativity.  Subject matter will include spring flowers\, a poppy covered hillside\, a nature scene and a still life. \nThis watercolor painting class will be at the Rossmoor Activities Center\, Painting Studio 1 on Thursday Mornings from 9 am to 11:30 am.  This 10 week class will run from April 2nd to June 18 (no class on 4/30 and 5/7) at a cost of $160.  For Non-Rossmoor Residents the class fee is $180.  Priority will be given to Rossmoor Residents.  Suggested materials will be discussed at the first class. \n  \nTo register go to the Rossmoor Art Association Website ( www.rossmoorart.com )and click on classes on the header bar.  Scroll down until you come to Beginning/Intermediate Watercolor Painting with Ron Pratt and follow the instructions to enroll.  The class maximum is 20 students due to space limitations so get your registration in to reserve your seat in the class. \n  \nTo see Ronald’s Watercolors go to www.ronaldpratt.com.  Please direct questions to Ronald at ronpratt14@gmail.com or call him at (510) 366-7740.  Further information on all RAA activities can be found at www.rossmoorart.com.
URL:https://rossmoorart.com/event/beginning-intermediate-watercolor-painting-with-ron-pratt-_april-2nd-to-june-18-_-thursdays-_9am-to-1130am_no-class-on-4-30-and-5-7-studio-1-11/
LOCATION:Gateway Art Studio 1\, 1001 Golden Rain Road\, Walnut Creek\, CA\, CA\, 94595\, United States
END:VEVENT
BEGIN:VEVENT
DTSTART;TZID=America/Los_Angeles:20260618T000000
DTEND;TZID=America/Los_Angeles:20260618T000000
DTSTAMP:20260419T064038
CREATED:20260330T171528Z
LAST-MODIFIED:20260330T171528Z
UID:72914-1781740800-1781740800@rossmoorart.com
SUMMARY:Beginning/Intermediate Watercolor Painting with Ron Pratt _April 2nd to June 18 _ Thursdays _9am to 11:30am_(no class on 4/30 and 5/7) Studio 1
DESCRIPTION:Beginning/Intermediate Watercolor Painting \nSpring 2026 \nRonald Pratt \n  \nGateway\, Painting Studio 1 \n Spring is a wonderful time of the year where the days are becoming longer\, the rains are a little less frequent and the temperature starts to climb to a comfortable level.  Outside nature starts to splash us with a colorful array of blossoms\, the birds start arriving from their winter habitat and the forests come alive with a bounty of living creatures.  I feel like I am waking up from a long winter nap and can sense the energy and excitement of summertime just around the corner.  This is the time I am my most creative and can’t wait to sit down and paint. \nIf you are like me and feel the excitement of spring and want to paint come join us at the Rossmoor Art Association’s Activity Center on Thursday Mornings for a watercolor painting class designed for you.  The focus of this class is the fundamentals of painting.  You will be given step by step demonstrations of watercolor painting to inspire you while in a friendly atmosphere that will encourage you to explore your own individual creativity.  Subject matter will include spring flowers\, a poppy covered hillside\, a nature scene and a still life. \nThis watercolor painting class will be at the Rossmoor Activities Center\, Painting Studio 1 on Thursday Mornings from 9 am to 11:30 am.  This 10 week class will run from April 2nd to June 18 (no class on 4/30 and 5/7) at a cost of $160.  For Non-Rossmoor Residents the class fee is $180.  Priority will be given to Rossmoor Residents.  Suggested materials will be discussed at the first class. \n  \nTo register go to the Rossmoor Art Association Website ( www.rossmoorart.com )and click on classes on the header bar.  Scroll down until you come to Beginning/Intermediate Watercolor Painting with Ron Pratt and follow the instructions to enroll.  The class maximum is 20 students due to space limitations so get your registration in to reserve your seat in the class. \n  \nTo see Ronald’s Watercolors go to www.ronaldpratt.com.  Please direct questions to Ronald at ronpratt14@gmail.com or call him at (510) 366-7740.  Further information on all RAA activities can be found at www.rossmoorart.com.
URL:https://rossmoorart.com/event/beginning-intermediate-watercolor-painting-with-ron-pratt-_april-2nd-to-june-18-_-thursdays-_9am-to-1130am_no-class-on-4-30-and-5-7-studio-1-12/
LOCATION:Gateway Art Studio 1\, 1001 Golden Rain Road\, Walnut Creek\, CA\, CA\, 94595\, United States
END:VEVENT
END:VCALENDAR